Package: pumadata Version: 2.47.0 Command: /home/biocbuild/bbs-3.23-bioc/R/bin/R CMD build --keep-empty-dirs --no-resave-data pumadata StartedAt: 2025-11-18 11:37:40 -0500 (Tue, 18 Nov 2025) EndedAt: 2025-11-18 11:38:25 -0500 (Tue, 18 Nov 2025) EllapsedTime: 45.1 seconds RetCode: 0 Status: OK PackageFile: pumadata_2.47.0.tar.gz PackageFileSize: 101.7 MiB