Package: prostateCancerVarambally Version: 1.39.0 Command: /home/biocbuild/bbs-3.23-bioc/R/bin/R CMD INSTALL prostateCancerVarambally StartedAt: 2025-11-18 10:56:06 -0500 (Tue, 18 Nov 2025) EndedAt: 2025-11-18 10:56:12 -0500 (Tue, 18 Nov 2025) EllapsedTime: 6.6 seconds RetCode: 0 Status: OK