Package: prostateCancerTaylor Version: 1.39.0 Command: /home/biocbuild/bbs-3.23-bioc/R/bin/R CMD check --install=check:prostateCancerTaylor.install-out.txt --library=/home/biocbuild/bbs-3.23-bioc/R/site-library --timings prostateCancerTaylor_1.39.0.tar.gz StartedAt: 2025-11-18 12:55:00 -0500 (Tue, 18 Nov 2025) EndedAt: 2025-11-18 12:55:35 -0500 (Tue, 18 Nov 2025) EllapsedTime: 35.6 seconds RetCode: 0 Status: WARNINGS CheckDir: prostateCancerTaylor.Rcheck Warnings: 1