Package: prostateCancerGrasso Version: 1.39.0 Command: /home/biocbuild/bbs-3.23-bioc/R/bin/R CMD INSTALL prostateCancerGrasso StartedAt: 2025-11-18 10:56:33 -0500 (Tue, 18 Nov 2025) EndedAt: 2025-11-18 10:56:41 -0500 (Tue, 18 Nov 2025) EllapsedTime: 7.8 seconds RetCode: 0 Status: OK