Package: prostateCancerGrasso Version: 1.39.0 Command: /home/biocbuild/bbs-3.23-bioc/R/bin/R CMD check --install=check:prostateCancerGrasso.install-out.txt --library=/home/biocbuild/bbs-3.23-bioc/R/site-library --timings prostateCancerGrasso_1.39.0.tar.gz StartedAt: 2025-11-18 12:54:49 -0500 (Tue, 18 Nov 2025) EndedAt: 2025-11-18 12:55:15 -0500 (Tue, 18 Nov 2025) EllapsedTime: 25.9 seconds RetCode: 0 Status: WARNINGS CheckDir: prostateCancerGrasso.Rcheck Warnings: 1