Package: plotgardenerData Version: 1.17.0 Command: /home/biocbuild/bbs-3.23-bioc/R/bin/R CMD INSTALL plotgardenerData StartedAt: 2025-11-18 10:55:16 -0500 (Tue, 18 Nov 2025) EndedAt: 2025-11-18 10:55:19 -0500 (Tue, 18 Nov 2025) EllapsedTime: 2.5 seconds RetCode: 0 Status: OK