Package: plotgardenerData Version: 1.17.0 Command: /home/biocbuild/bbs-3.23-bioc/R/bin/R CMD check --install=check:plotgardenerData.install-out.txt --library=/home/biocbuild/bbs-3.23-bioc/R/site-library --timings plotgardenerData_1.17.0.tar.gz StartedAt: 2025-11-13 12:53:26 -0500 (Thu, 13 Nov 2025) EndedAt: 2025-11-13 12:53:45 -0500 (Thu, 13 Nov 2025) EllapsedTime: 19.3 seconds RetCode: 0 Status: WARNINGS CheckDir: plotgardenerData.Rcheck Warnings: 1