Package: pepDat Version: 1.31.0 Command: /home/biocbuild/bbs-3.23-bioc/R/bin/R CMD check --install=check:pepDat.install-out.txt --library=/home/biocbuild/bbs-3.23-bioc/R/site-library --timings pepDat_1.31.0.tar.gz StartedAt: 2025-11-20 12:59:21 -0500 (Thu, 20 Nov 2025) EndedAt: 2025-11-20 13:00:24 -0500 (Thu, 20 Nov 2025) EllapsedTime: 63.2 seconds RetCode: 0 Status: OK CheckDir: pepDat.Rcheck Warnings: 0