Package: nmrdata Version: 1.1.0 Command: /home/biocbuild/bbs-3.23-bioc/R/bin/R CMD build --keep-empty-dirs --no-resave-data nmrdata StartedAt: 2025-11-13 11:34:31 -0500 (Thu, 13 Nov 2025) EndedAt: 2025-11-13 11:34:51 -0500 (Thu, 13 Nov 2025) EllapsedTime: 19.7 seconds RetCode: 0 Status: OK PackageFile: nmrdata_1.1.0.tar.gz PackageFileSize: 362.1 KiB