Package: muSpaData Version: 1.3.0 Command: /home/biocbuild/bbs-3.23-bioc/R/bin/R CMD INSTALL muSpaData StartedAt: 2025-11-18 10:56:50 -0500 (Tue, 18 Nov 2025) EndedAt: 2025-11-18 10:57:02 -0500 (Tue, 18 Nov 2025) EllapsedTime: 12.7 seconds RetCode: 0 Status: OK