Package: mtbls2 Version: 1.41.0 Command: /home/biocbuild/bbs-3.23-bioc/R/bin/R CMD INSTALL mtbls2 StartedAt: 2025-11-18 10:55:35 -0500 (Tue, 18 Nov 2025) EndedAt: 2025-11-18 10:56:15 -0500 (Tue, 18 Nov 2025) EllapsedTime: 40.6 seconds RetCode: 0 Status: OK