Package: mtbls2 Version: 1.41.0 Command: /home/biocbuild/bbs-3.23-bioc/R/bin/R CMD check --install=check:mtbls2.install-out.txt --library=/home/biocbuild/bbs-3.23-bioc/R/site-library --timings mtbls2_1.41.0.tar.gz StartedAt: 2025-11-13 12:47:00 -0500 (Thu, 13 Nov 2025) EndedAt: 2025-11-13 12:51:41 -0500 (Thu, 13 Nov 2025) EllapsedTime: 281.3 seconds RetCode: 0 Status: WARNINGS CheckDir: mtbls2.Rcheck Warnings: 1