Package: msqc1 Version: 1.39.0 Command: /home/biocbuild/bbs-3.23-bioc/R/bin/R CMD build --keep-empty-dirs --no-resave-data msqc1 StartedAt: 2025-11-18 11:32:38 -0500 (Tue, 18 Nov 2025) EndedAt: 2025-11-18 11:33:26 -0500 (Tue, 18 Nov 2025) EllapsedTime: 48.1 seconds RetCode: 0 Status: OK PackageFile: msqc1_1.39.0.tar.gz PackageFileSize: 7.936 MiB