Package: msdata Version: 0.51.0 Command: /home/biocbuild/bbs-3.23-bioc/R/bin/R CMD INSTALL msdata StartedAt: 2025-11-13 10:55:15 -0500 (Thu, 13 Nov 2025) EndedAt: 2025-11-13 10:55:30 -0500 (Thu, 13 Nov 2025) EllapsedTime: 15.7 seconds RetCode: 0 Status: OK