Package: msd16s Version: 1.31.0 Command: /home/biocbuild/bbs-3.23-bioc/R/bin/R CMD check --install=check:msd16s.install-out.txt --library=/home/biocbuild/bbs-3.23-bioc/R/site-library --timings msd16s_1.31.0.tar.gz StartedAt: 2025-11-18 12:46:31 -0500 (Tue, 18 Nov 2025) EndedAt: 2025-11-18 12:47:27 -0500 (Tue, 18 Nov 2025) EllapsedTime: 56.9 seconds RetCode: 0 Status: OK CheckDir: msd16s.Rcheck Warnings: 0