Package: minionSummaryData Version: 1.41.0 Command: /home/biocbuild/bbs-3.23-bioc/R/bin/R CMD check --install=check:minionSummaryData.install-out.txt --library=/home/biocbuild/bbs-3.23-bioc/R/site-library --timings minionSummaryData_1.41.0.tar.gz StartedAt: 2025-11-18 12:44:08 -0500 (Tue, 18 Nov 2025) EndedAt: 2025-11-18 12:54:59 -0500 (Tue, 18 Nov 2025) EllapsedTime: 651.0 seconds RetCode: 0 Status: WARNINGS CheckDir: minionSummaryData.Rcheck Warnings: 1