Package: methylclockData Version: 1.19.0 Command: /home/biocbuild/bbs-3.23-bioc/R/bin/R CMD INSTALL methylclockData StartedAt: 2025-11-18 11:03:24 -0500 (Tue, 18 Nov 2025) EndedAt: 2025-11-18 11:04:02 -0500 (Tue, 18 Nov 2025) EllapsedTime: 38.3 seconds RetCode: 0 Status: OK