Package: marinerData Version: 1.11.0 Command: /home/biocbuild/bbs-3.23-bioc/R/bin/R CMD build --keep-empty-dirs --no-resave-data marinerData StartedAt: 2025-11-18 11:29:13 -0500 (Tue, 18 Nov 2025) EndedAt: 2025-11-18 11:30:27 -0500 (Tue, 18 Nov 2025) EllapsedTime: 73.5 seconds RetCode: 0 Status: OK PackageFile: marinerData_1.11.0.tar.gz PackageFileSize: 217.7 KiB