Package: macrophage Version: 1.27.0 Command: /home/biocbuild/bbs-3.23-bioc/R/bin/R CMD INSTALL macrophage StartedAt: 2025-11-18 10:55:13 -0500 (Tue, 18 Nov 2025) EndedAt: 2025-11-18 10:55:17 -0500 (Tue, 18 Nov 2025) EllapsedTime: 4.3 seconds RetCode: 0 Status: OK