Package: macrophage Version: 1.27.0 Command: /home/biocbuild/bbs-3.23-bioc/R/bin/R CMD check --install=check:macrophage.install-out.txt --library=/home/biocbuild/bbs-3.23-bioc/R/site-library --timings macrophage_1.27.0.tar.gz StartedAt: 2025-11-18 12:40:16 -0500 (Tue, 18 Nov 2025) EndedAt: 2025-11-18 12:40:59 -0500 (Tue, 18 Nov 2025) EllapsedTime: 42.8 seconds RetCode: 0 Status: WARNINGS CheckDir: macrophage.Rcheck Warnings: 1