Package: macrophage Version: 1.27.0 Command: /home/biocbuild/bbs-3.23-bioc/R/bin/R CMD build --keep-empty-dirs --no-resave-data macrophage StartedAt: 2025-11-18 11:28:37 -0500 (Tue, 18 Nov 2025) EndedAt: 2025-11-18 11:29:13 -0500 (Tue, 18 Nov 2025) EllapsedTime: 35.9 seconds RetCode: 0 Status: OK PackageFile: macrophage_1.27.0.tar.gz PackageFileSize: 511.4 MiB