Package: lydata Version: 1.37.0 Command: /home/biocbuild/bbs-3.23-bioc/R/bin/R CMD check --install=check:lydata.install-out.txt --library=/home/biocbuild/bbs-3.23-bioc/R/site-library --timings lydata_1.37.0.tar.gz StartedAt: 2025-11-20 12:46:29 -0500 (Thu, 20 Nov 2025) EndedAt: 2025-11-20 12:46:57 -0500 (Thu, 20 Nov 2025) EllapsedTime: 28.2 seconds RetCode: 0 Status: OK CheckDir: lydata.Rcheck Warnings: 0