Package: lungExpression Version: 0.49.0 Command: /home/biocbuild/bbs-3.23-bioc/R/bin/R CMD build --keep-empty-dirs --no-resave-data lungExpression StartedAt: 2025-11-18 11:28:12 -0500 (Tue, 18 Nov 2025) EndedAt: 2025-11-18 11:28:13 -0500 (Tue, 18 Nov 2025) EllapsedTime: 1.0 seconds RetCode: 0 Status: OK PackageFile: lungExpression_0.49.0.tar.gz PackageFileSize: 5.681 MiB