Package: lumiBarnes Version: 1.51.0 Command: /home/biocbuild/bbs-3.23-bioc/R/bin/R CMD check --install=check:lumiBarnes.install-out.txt --library=/home/biocbuild/bbs-3.23-bioc/R/site-library --timings lumiBarnes_1.51.0.tar.gz StartedAt: 2025-11-13 12:38:57 -0500 (Thu, 13 Nov 2025) EndedAt: 2025-11-13 12:41:21 -0500 (Thu, 13 Nov 2025) EllapsedTime: 143.8 seconds RetCode: 0 Status: WARNINGS CheckDir: lumiBarnes.Rcheck Warnings: 1