Package: leukemiasEset Version: 1.47.0 Command: /home/biocbuild/bbs-3.23-bioc/R/bin/R CMD check --install=check:leukemiasEset.install-out.txt --library=/home/biocbuild/bbs-3.23-bioc/R/site-library --timings leukemiasEset_1.47.0.tar.gz StartedAt: 2025-11-18 12:37:57 -0500 (Tue, 18 Nov 2025) EndedAt: 2025-11-18 12:38:25 -0500 (Tue, 18 Nov 2025) EllapsedTime: 27.9 seconds RetCode: 0 Status: OK CheckDir: leukemiasEset.Rcheck Warnings: 0