Package: kidpack Version: 1.53.0 Command: /home/biocbuild/bbs-3.23-bioc/R/bin/R CMD build --keep-empty-dirs --no-resave-data kidpack StartedAt: 2025-11-18 11:26:44 -0500 (Tue, 18 Nov 2025) EndedAt: 2025-11-18 11:26:57 -0500 (Tue, 18 Nov 2025) EllapsedTime: 12.6 seconds RetCode: 0 Status: OK PackageFile: kidpack_1.53.0.tar.gz PackageFileSize: 18.39 MiB