Package: iModMixData Version: 1.1.0 Command: /home/biocbuild/bbs-3.23-bioc/R/bin/R CMD INSTALL iModMixData StartedAt: 2025-11-18 10:57:34 -0500 (Tue, 18 Nov 2025) EndedAt: 2025-11-18 10:57:36 -0500 (Tue, 18 Nov 2025) EllapsedTime: 1.9 seconds RetCode: 0 Status: OK