Package: iModMixData Version: 1.1.0 Command: /home/biocbuild/bbs-3.23-bioc/R/bin/R CMD build --keep-empty-dirs --no-resave-data iModMixData StartedAt: 2025-11-18 11:25:45 -0500 (Tue, 18 Nov 2025) EndedAt: 2025-11-18 11:26:32 -0500 (Tue, 18 Nov 2025) EllapsedTime: 47.5 seconds RetCode: 0 Status: OK PackageFile: iModMixData_1.1.0.tar.gz PackageFileSize: 11.39 KiB