Package: humanStemCell Version: 0.51.0 Command: /home/biocbuild/bbs-3.23-bioc/R/bin/R CMD INSTALL humanStemCell StartedAt: 2025-11-13 10:57:19 -0500 (Thu, 13 Nov 2025) EndedAt: 2025-11-13 10:57:28 -0500 (Thu, 13 Nov 2025) EllapsedTime: 9.5 seconds RetCode: 0 Status: OK