Package: humanHippocampus2024 Version: 1.3.0 Command: /home/biocbuild/bbs-3.23-bioc/R/bin/R CMD INSTALL humanHippocampus2024 StartedAt: 2025-11-18 10:59:29 -0500 (Tue, 18 Nov 2025) EndedAt: 2025-11-18 10:59:51 -0500 (Tue, 18 Nov 2025) EllapsedTime: 21.9 seconds RetCode: 0 Status: OK