Package: homosapienDEE2CellScore Version: 1.7.0 Command: /home/biocbuild/bbs-3.23-bioc/R/bin/R CMD INSTALL homosapienDEE2CellScore StartedAt: 2025-11-18 11:00:09 -0500 (Tue, 18 Nov 2025) EndedAt: 2025-11-18 11:00:38 -0500 (Tue, 18 Nov 2025) EllapsedTime: 28.3 seconds RetCode: 0 Status: OK