Package: hgu2beta7 Version: 1.51.0 Command: /home/biocbuild/bbs-3.23-bioc/R/bin/R CMD INSTALL hgu2beta7 StartedAt: 2025-11-18 10:55:47 -0500 (Tue, 18 Nov 2025) EndedAt: 2025-11-18 10:55:50 -0500 (Tue, 18 Nov 2025) EllapsedTime: 2.5 seconds RetCode: 0 Status: OK