Package: hgu133plus2barcodevecs Version: 1.49.0 Command: /home/biocbuild/bbs-3.23-bioc/R/bin/R CMD check --install=check:hgu133plus2barcodevecs.install-out.txt --library=/home/biocbuild/bbs-3.23-bioc/R/site-library --timings hgu133plus2barcodevecs_1.49.0.tar.gz StartedAt: 2025-11-18 12:31:12 -0500 (Tue, 18 Nov 2025) EndedAt: 2025-11-18 12:31:25 -0500 (Tue, 18 Nov 2025) EllapsedTime: 13.0 seconds RetCode: 0 Status: OK CheckDir: hgu133plus2barcodevecs.Rcheck Warnings: 0