Package: hgu133plus2barcodevecs Version: 1.49.0 Command: /home/biocbuild/bbs-3.23-bioc/R/bin/R CMD build --keep-empty-dirs --no-resave-data hgu133plus2barcodevecs StartedAt: 2025-11-18 11:23:59 -0500 (Tue, 18 Nov 2025) EndedAt: 2025-11-18 11:24:01 -0500 (Tue, 18 Nov 2025) EllapsedTime: 1.3 seconds RetCode: 0 Status: OK PackageFile: hgu133plus2barcodevecs_1.49.0.tar.gz PackageFileSize: 1.209 MiB