Package: healthyFlowData Version: 1.49.0 Command: /home/biocbuild/bbs-3.23-bioc/R/bin/R CMD check --install=check:healthyFlowData.install-out.txt --library=/home/biocbuild/bbs-3.23-bioc/R/site-library --timings healthyFlowData_1.49.0.tar.gz StartedAt: 2025-11-13 12:29:47 -0500 (Thu, 13 Nov 2025) EndedAt: 2025-11-13 12:30:23 -0500 (Thu, 13 Nov 2025) EllapsedTime: 36.3 seconds RetCode: 0 Status: OK CheckDir: healthyFlowData.Rcheck Warnings: 0