Package: healthyControlsPresenceChecker Version: 1.15.0 Command: /home/biocbuild/bbs-3.23-bioc/R/bin/R CMD build --keep-empty-dirs --no-resave-data healthyControlsPresenceChecker StartedAt: 2025-11-18 11:23:40 -0500 (Tue, 18 Nov 2025) EndedAt: 2025-11-18 11:24:29 -0500 (Tue, 18 Nov 2025) EllapsedTime: 48.9 seconds RetCode: 0 Status: OK PackageFile: healthyControlsPresenceChecker_1.15.0.tar.gz PackageFileSize: 219.9 KiB