Package: hapmapsnp6 Version: 1.53.0 Command: /home/biocbuild/bbs-3.23-bioc/R/bin/R CMD build --keep-empty-dirs --no-resave-data hapmapsnp6 StartedAt: 2025-11-18 11:21:35 -0500 (Tue, 18 Nov 2025) EndedAt: 2025-11-18 11:25:42 -0500 (Tue, 18 Nov 2025) EllapsedTime: 246.6 seconds RetCode: 0 Status: OK PackageFile: hapmapsnp6_1.53.0.tar.gz PackageFileSize: 263.2 MiB