Package: hapmap100kxba Version: 1.53.0 Command: /home/biocbuild/bbs-3.23-bioc/R/bin/R CMD INSTALL hapmap100kxba StartedAt: 2025-11-18 10:55:34 -0500 (Tue, 18 Nov 2025) EndedAt: 2025-11-18 10:55:36 -0500 (Tue, 18 Nov 2025) EllapsedTime: 1.7 seconds RetCode: 0 Status: OK