Package: h5vcData Version: 2.31.0 Command: /home/biocbuild/bbs-3.23-bioc/R/bin/R CMD INSTALL h5vcData StartedAt: 2025-11-18 10:55:24 -0500 (Tue, 18 Nov 2025) EndedAt: 2025-11-18 10:55:25 -0500 (Tue, 18 Nov 2025) EllapsedTime: 1.9 seconds RetCode: 0 Status: OK