Package: h5vcData Version: 2.31.0 Command: /home/biocbuild/bbs-3.23-bioc/R/bin/R CMD build --keep-empty-dirs --no-resave-data h5vcData StartedAt: 2025-11-18 11:21:10 -0500 (Tue, 18 Nov 2025) EndedAt: 2025-11-18 11:21:14 -0500 (Tue, 18 Nov 2025) EllapsedTime: 3.3 seconds RetCode: 0 Status: OK PackageFile: h5vcData_2.31.0.tar.gz PackageFileSize: 24.83 MiB