Package: golubEsets Version: 1.53.0 Command: /home/biocbuild/bbs-3.23-bioc/R/bin/R CMD check --install=check:golubEsets.install-out.txt --library=/home/biocbuild/bbs-3.23-bioc/R/site-library --timings golubEsets_1.53.0.tar.gz StartedAt: 2025-11-13 12:26:58 -0500 (Thu, 13 Nov 2025) EndedAt: 2025-11-13 12:27:44 -0500 (Thu, 13 Nov 2025) EllapsedTime: 46.2 seconds RetCode: 0 Status: OK CheckDir: golubEsets.Rcheck Warnings: 0