Package: gaschYHS Version: 1.49.0 Command: /home/biocbuild/bbs-3.23-bioc/R/bin/R CMD check --install=check:gaschYHS.install-out.txt --library=/home/biocbuild/bbs-3.23-bioc/R/site-library --timings gaschYHS_1.49.0.tar.gz StartedAt: 2025-11-18 12:26:19 -0500 (Tue, 18 Nov 2025) EndedAt: 2025-11-18 12:26:40 -0500 (Tue, 18 Nov 2025) EllapsedTime: 20.3 seconds RetCode: 0 Status: OK CheckDir: gaschYHS.Rcheck Warnings: 0