Package: furrowSeg Version: 1.39.0 Command: /home/biocbuild/bbs-3.23-bioc/R/bin/R CMD INSTALL furrowSeg StartedAt: 2025-11-18 10:57:51 -0500 (Tue, 18 Nov 2025) EndedAt: 2025-11-18 10:57:56 -0500 (Tue, 18 Nov 2025) EllapsedTime: 5.4 seconds RetCode: 0 Status: OK