Package: frmaExampleData Version: 1.47.0 Command: /home/biocbuild/bbs-3.23-bioc/R/bin/R CMD check --install=check:frmaExampleData.install-out.txt --library=/home/biocbuild/bbs-3.23-bioc/R/site-library --timings frmaExampleData_1.47.0.tar.gz StartedAt: 2025-11-18 12:25:38 -0500 (Tue, 18 Nov 2025) EndedAt: 2025-11-18 12:27:56 -0500 (Tue, 18 Nov 2025) EllapsedTime: 138.0 seconds RetCode: 0 Status: WARNINGS CheckDir: frmaExampleData.Rcheck Warnings: 2