Package: frmaExampleData Version: 1.47.0 Command: /home/biocbuild/bbs-3.23-bioc/R/bin/R CMD build --keep-empty-dirs --no-resave-data frmaExampleData StartedAt: 2025-11-18 11:19:34 -0500 (Tue, 18 Nov 2025) EndedAt: 2025-11-18 11:19:39 -0500 (Tue, 18 Nov 2025) EllapsedTime: 5.0 seconds RetCode: 0 Status: OK PackageFile: frmaExampleData_1.47.0.tar.gz PackageFileSize: 15.88 MiB