Package: fibroEset Version: 1.53.0 Command: /home/biocbuild/bbs-3.23-bioc/R/bin/R CMD INSTALL fibroEset StartedAt: 2025-11-18 10:56:27 -0500 (Tue, 18 Nov 2025) EndedAt: 2025-11-18 10:56:30 -0500 (Tue, 18 Nov 2025) EllapsedTime: 3.4 seconds RetCode: 0 Status: OK