Package: fibroEset Version: 1.53.0 Command: /home/biocbuild/bbs-3.23-bioc/R/bin/R CMD check --install=check:fibroEset.install-out.txt --library=/home/biocbuild/bbs-3.23-bioc/R/site-library --timings fibroEset_1.53.0.tar.gz StartedAt: 2025-11-18 12:22:47 -0500 (Tue, 18 Nov 2025) EndedAt: 2025-11-18 12:23:14 -0500 (Tue, 18 Nov 2025) EllapsedTime: 27.3 seconds RetCode: 0 Status: WARNINGS CheckDir: fibroEset.Rcheck Warnings: 1