Package: fabiaData Version: 1.49.0 Command: /home/biocbuild/bbs-3.23-bioc/R/bin/R CMD check --install=check:fabiaData.install-out.txt --library=/home/biocbuild/bbs-3.23-bioc/R/site-library --timings fabiaData_1.49.0.tar.gz StartedAt: 2025-11-18 12:22:23 -0500 (Tue, 18 Nov 2025) EndedAt: 2025-11-18 12:22:46 -0500 (Tue, 18 Nov 2025) EllapsedTime: 23.6 seconds RetCode: 0 Status: OK CheckDir: fabiaData.Rcheck Warnings: 0