Package: fabiaData Version: 1.49.0 Command: /home/biocbuild/bbs-3.23-bioc/R/bin/R CMD build --keep-empty-dirs --no-resave-data fabiaData StartedAt: 2025-11-18 11:17:26 -0500 (Tue, 18 Nov 2025) EndedAt: 2025-11-18 11:17:33 -0500 (Tue, 18 Nov 2025) EllapsedTime: 7.0 seconds RetCode: 0 Status: OK PackageFile: fabiaData_1.49.0.tar.gz PackageFileSize: 4.514 MiB