Package: faahKO Version: 1.51.0 Command: /home/biocbuild/bbs-3.23-bioc/R/bin/R CMD check --install=check:faahKO.install-out.txt --library=/home/biocbuild/bbs-3.23-bioc/R/site-library --timings faahKO_1.51.0.tar.gz StartedAt: 2025-11-18 12:22:16 -0500 (Tue, 18 Nov 2025) EndedAt: 2025-11-18 12:27:28 -0500 (Tue, 18 Nov 2025) EllapsedTime: 312.4 seconds RetCode: 0 Status: OK CheckDir: faahKO.Rcheck Warnings: 0